BEGIN:VCALENDAR
VERSION:2.0
PRODID:-//hacksw/handcal//NONSGML v1.0//EN
BEGIN:VEVENT
SUMMARY:LOTO 2026
UID:0030a218-4ba1-4658-9acd-3bf4248da547
DTSTART:20260314T170000Z
DTEND:20260315T000000Z
LOCATION:Localisation   
CATEGORIES:Manifestation
STATUS:
DESCRIPTION:<p>L'equipe de Romanche Basket est ravie de vous convier
 a son grand Loto annuel !<br />
 Rejoignez nous pour une soiree placee
 sous le signe de la convivialite, du suspense et de la solidarite.<br
 />
 <br />
 <b>📅 Samedi 14 Mars 2026<br />
 📍 Salle Emile Zola,
 Champ-sur-Drac</b><br />
 <br />
 <b>🎟️ Tarifs des
 cartons</b></p>
 
 <ul>
 	<li>1 carton 4€</li>
 	<li>5 cartons 15
 €</li>
 	<li>10 cartons 30 €</li>
 	<li>15 cartons 40
 €</li>
 	<li>20 cartons 50 €</li>
 </ul>
 
 <p><b>🕒 Horaires &
 Acces</b><br />
 Pour garantir votre place, nous vous conseillons de
 reserver!</p>
 
 <p><a
 href="https://forms.gle/sxanEUM9PevBKThs6">https://forms.gle/sxanEUM9PevBKThs6</a></p>
 
 <ul>
 	<li>18h00
 - 18h30 : <b>Accueil prioritaire pour les
 pre-reservations</b> (acces garanti jusqu'a 18h30).</li>
 	<li>A
 partir de 18h30 : <b>Entree libre pour tous</b>, dans la limite des
 places disponibles restantes.</li>
 	<li><b>Debut du LOTO:
 19H30</b></li>
 </ul>
 
 <p><b>🥨 Restauration &
 Buvette</b></p>
 
 <ul>
 	<li>Pas besoin de prevoir le pique-nique
 ! </li>
 	<li>Une buvette complete et un service de restauration sur
 place seront a votre disposition tout au long de la soiree pour
 combler vos petites faims et grandes soifs.</li>
 </ul>
 
 <p><b>✨
 Reservez votre place des maintenant !</b></p>
 
 <ul>
 	<li>Avec plus de
 5 000 € de lots mis en jeu, la soiree promet d'etre electrique ! En
 participant, vous passez un moment inoubliable tout en soutenant
 activement les projets de votre club prefere.</li>
 </ul>
 
 <p>C'est
 l'occasion parfaite de s'amuser en famille ou entre amis tout en
 soutenant la grande famille du basket de la vallee de la Romanche. On
 vous attend nombreux !<br />
 <br />
 <b>🏀 L'equipe de Romanche
 Basket</b></p>
URL;VALUE=URI:https://www.romanchebasket.com/evenements/2026/03/14/loto-2026-2423537
END:VEVENT
END:VCALENDAR
